BEGIN:VCALENDAR
VERSION:2.0
PRODID:-//New Covenant Community Church - ECPv6.15.17.1//NONSGML v1.0//EN
CALSCALE:GREGORIAN
METHOD:PUBLISH
X-WR-CALNAME:New Covenant Community Church
X-ORIGINAL-URL:https://www.newcov.com
X-WR-CALDESC:Events for New Covenant Community Church
REFRESH-INTERVAL;VALUE=DURATION:PT1H
X-Robots-Tag:noindex
X-PUBLISHED-TTL:PT1H
BEGIN:VTIMEZONE
TZID:America/Los_Angeles
BEGIN:DAYLIGHT
TZOFFSETFROM:-0800
TZOFFSETTO:-0700
TZNAME:PDT
DTSTART:20250309T100000
END:DAYLIGHT
BEGIN:STANDARD
TZOFFSETFROM:-0700
TZOFFSETTO:-0800
TZNAME:PST
DTSTART:20251102T090000
END:STANDARD
BEGIN:DAYLIGHT
TZOFFSETFROM:-0800
TZOFFSETTO:-0700
TZNAME:PDT
DTSTART:20260308T100000
END:DAYLIGHT
BEGIN:STANDARD
TZOFFSETFROM:-0700
TZOFFSETTO:-0800
TZNAME:PST
DTSTART:20261101T090000
END:STANDARD
BEGIN:DAYLIGHT
TZOFFSETFROM:-0800
TZOFFSETTO:-0700
TZNAME:PDT
DTSTART:20270314T100000
END:DAYLIGHT
BEGIN:STANDARD
TZOFFSETFROM:-0700
TZOFFSETTO:-0800
TZNAME:PST
DTSTART:20271107T090000
END:STANDARD
END:VTIMEZONE
BEGIN:VEVENT
DTSTART;TZID=America/Los_Angeles:20260412T000000
DTEND;TZID=America/Los_Angeles:20260517T235959
DTSTAMP:20260421T065107
CREATED:20260403T171732Z
LAST-MODIFIED:20260407T170649Z
UID:354365-1775952000-1779062399@www.newcov.com
SUMMARY:Love & Respect
DESCRIPTION:Engaging\, Faith-Filled Class For Young Married Couples\n\n\n\n\n\n\n\nTogether\, we’ll explore how God uniquely designed husbands and wives\, and how living out biblical love and respect can transform the way you communicate\, handle conflict\, and support one another. Through Scripture\, real-life application\, and meaningful conversation\, you’ll gain practical tools to strengthen your marriage in a Christ-centered way. \n\n\n\n\n\n\n\nSunday Mornings8:30AM-9:45PMApr 12-May 17White Event House \n\n\n\n\n\n\n\n$10 | Workbook \n\n\n\n\n\n\n\n		RegisterRegister
URL:https://www.newcov.com/event/love-respect/
LOCATION:NewCov\, 1744 E. Nees Ave.\, Fresno\, CA\, 93720\, United States
CATEGORIES:Featured
ATTACH;FMTTYPE=image/jpeg:https://www.newcov.com/wp-content/uploads/2026/04/NewCov_LoveRespect_2026.jpg
ORGANIZER;CN="New Covenant Community Church | Fresno":MAILTO:info@newcov.com
END:VEVENT
BEGIN:VEVENT
DTSTART;TZID=America/Los_Angeles:20260415T000000
DTEND;TZID=America/Los_Angeles:20260520T235959
DTSTAMP:20260421T065107
CREATED:20260411T232541Z
LAST-MODIFIED:20260411T232959Z
UID:354384-1776211200-1779321599@www.newcov.com
SUMMARY:Blended Adventures
DESCRIPTION:Blended Families Aren’t Easy—But You Don’t Have To Figure It Out Alone!\n\n\n\n\n\n\n\nIf you belong to a blended family or are contemplating remarriage\, this class is a must attend. Merging families presents distinct challenges and scenarios. This course tackles many of these issues\, equipping you with effective communication skills to foster strong relationships with your new partner and children. \n\n\n\n\n\n\n\nWednesdays | Apr 15-May 206:30PM-8:00PM$40 | Couple (includes workbook) \n\n\n\n\n\n\n\n*Childcare available upon request (when registering). \n\n\n\n\n\n\n\n		RegisterRegister\n		\n\n\n\n\n\n\n\nTo learn more\, contact Dave Yetter(559)298-0688
URL:https://www.newcov.com/event/blended-adventures/
LOCATION:NewCov\, 1744 E. Nees Ave.\, Fresno\, CA\, 93720\, United States
CATEGORIES:Featured
ATTACH;FMTTYPE=image/png:https://www.newcov.com/wp-content/uploads/2026/04/NewCov_Events_BlendedAdventures_2026.png
ORGANIZER;CN="New Covenant Community Church | Fresno":MAILTO:info@newcov.com
END:VEVENT
END:VCALENDAR